BEGIN:VCALENDAR
VERSION:2.0
PRODID:-//Agroportal //NONSGML Events //EN
CALSCALE:GREGORIAN
X-WR-CALNAME:Agroportal
BEGIN:VEVENT
CREATED:20260424T175033Z
UID:1241292
DTEND;VALUE=DATE:20260503T120000Z
DTSTART;VALUE=DATE:20260503T103000Z
DTSTAMP:20260425T125624Z
LOCATION:www.agroportal
DESCRIPTION:O colóquio &quot;Alentejo com Futuro: Atrair e Fixar Talento&quot;, organizado pela Incubadora de Inovação Social do Baixo Alentejo e pela ACOS, terá lugar no dia 3 de maio, às 11h30, no Pavilhão de Inovação e Tecnologia (Auditório Caixa Geral de Depósitos). Com nota de abertura de Nuno Palma Ferro e moderação de Maria João Ruela, o debate contará com oradores como Filipe Almeida, Alejandro Hernández Renner, Hernâni Oliveira e a humorista Ana Arrebentinha, focando-se em estratégias para tornar a região mais apelativa para novos profissionais. A sessão encerra com a apresentação do Evento Satélite do Festival NEB, conduzida por João Pedro Cascalheira e Paula Conduto Mira, reforçando o compromisso com o desenvolvimento social e a inovação no Alentejo. &lt;img class=&quot;aligncenter wp-image-1241293 size-full&quot; src=&quot;https://www.agroportal.pt/wp-content/uploads/2026/04/Captura-de-ecra-2026-04-24-184953.png&quot; alt=&quot;&quot; width=&quot;1221&quot; height=&quot;878&quot; /&gt;
SUMMARY:Alentejo com Futuro: Atrair e Fixar Talento – 3 de maio – Ovibeja
ORGANIZER:agroportal
URL;VALUE=URI:https://www.agroportal.pt/events/event/alentejo-com-futuro-atrair-e-fixar-talento-3-de-maio-ovibeja/
TRANSP:OPAQUE
BEGIN:VALARM
ACTION:DISPLAY
TRIGGER;VALUE=DATE-TIME:20260503T120000Z
DESCRIPTION:Reminder for Alentejo com Futuro: Atrair e Fixar Talento – 3 de maio – Ovibeja
END:VALARM
END:VEVENT
END:VCALENDAR