BEGIN:VCALENDAR
VERSION:2.0
PRODID:-//Agroportal //NONSGML Events //EN
CALSCALE:GREGORIAN
X-WR-CALNAME:Agroportal
BEGIN:VEVENT
CREATED:20260424T174725Z
UID:1241290
DTEND;VALUE=DATE:20260503T103000Z
DTSTART;VALUE=DATE:20260503T093000Z
DTSTAMP:20260425T110844Z
LOCATION:www.agroportal
DESCRIPTION:O evento &quot;Vinhos Municípios&quot;, da responsabilidade da Câmara Municipal de Beja, terá lugar no Auditório ACOS com início às 10h30. Esta sessão foca-se na promoção e valorização dos vinhos de base territorial, destacando o papel estratégico dos municípios na preservação da identidade vitivinícola e no fortalecimento das economias locais através da ligação entre o produto, o turismo e o património regional da 42.ª Ovibeja.
SUMMARY:Vinhos Municípios – 3 de maio – Ovibeja
ORGANIZER:agroportal
URL;VALUE=URI:https://www.agroportal.pt/events/event/vinhos-municipios-3-de-maio-ovibeja/
TRANSP:OPAQUE
BEGIN:VALARM
ACTION:DISPLAY
TRIGGER;VALUE=DATE-TIME:20260503T103000Z
DESCRIPTION:Reminder for Vinhos Municípios – 3 de maio – Ovibeja
END:VALARM
END:VEVENT
END:VCALENDAR