BEGIN:VCALENDAR
VERSION:2.0
PRODID:-//Agroportal //NONSGML Events //EN
CALSCALE:GREGORIAN
X-WR-CALNAME:Agroportal
BEGIN:VEVENT
CREATED:20260424T174238Z
UID:1241283
DTEND;VALUE=DATE:20260502T143000Z
DTSTART;VALUE=DATE:20260502T133000Z
DTSTAMP:20260426T032307Z
LOCATION:www.agroportal
DESCRIPTION:O seminário &lt;b data-path-to-node=&quot;0&quot; data-index-in-node=&quot;12&quot;&gt;&quot;3 minutos de inovação e tecnologia&quot;&lt;/b&gt;, agendado para as &lt;b data-path-to-node=&quot;0&quot; data-index-in-node=&quot;67&quot;&gt;14h30&lt;/b&gt; no Pavilhão de Inovação e Tecnologia – Caixa Geral de Depósitos, apresenta um formato dinâmico de apresentações curtas e incisivas sobre os avanços mais recentes no setor. Sob a responsabilidade partilhada da &lt;b data-path-to-node=&quot;0&quot; data-index-in-node=&quot;282&quot;&gt;ACOS, ESAB, MED e CEBAL&lt;/b&gt;, esta sessão funciona como uma montra tecnológica onde investigadores e técnicos demonstram soluções práticas e rápidas para os desafios do mundo rural, promovendo uma transferência direta de conhecimento entre a academia e os produtores presentes na 42.ª Ovibeja.
SUMMARY:3 minutos de inovação e tecnologia – 2 de maio – Ovibeja
ORGANIZER:agroportal
URL;VALUE=URI:https://www.agroportal.pt/events/event/3-minutos-de-inovacao-e-tecnologia-2-de-maio-ovibeja/
TRANSP:OPAQUE
BEGIN:VALARM
ACTION:DISPLAY
TRIGGER;VALUE=DATE-TIME:20260502T143000Z
DESCRIPTION:Reminder for 3 minutos de inovação e tecnologia – 2 de maio – Ovibeja
END:VALARM
END:VEVENT
END:VCALENDAR