BEGIN:VCALENDAR
VERSION:2.0
PRODID:-//Agroportal //NONSGML Events //EN
CALSCALE:GREGORIAN
X-WR-CALNAME:Agroportal
BEGIN:VEVENT
CREATED:20260423T160004Z
UID:1240800
DTEND;VALUE=DATE:20260427T150000Z
DTSTART;VALUE=DATE:20260427T130000Z
DTSTAMP:20260425T183847Z
LOCATION:www.agroportal
DESCRIPTION:No 𝗽𝗿ó𝘅𝗶𝗺𝗼 𝗱𝗶𝗮 𝟮𝟳, à𝘀 𝟭𝟰:𝟬𝟬, convidamo-lo/a a participar no seminário online de disseminação do projeto 𝗖𝗶𝗿𝗰𝗼𝗹𝗶𝘃𝗲. Vamos apresentar soluções inovadoras e o nosso programa de formação contínua desenhado especificamente para micro e PMEs do setor. Nesta sessão poderá conhecer: ✅ Os objetivos e resultados do projeto Circolive; ✅ Detalhes sobre a formação gratuita para empresas; ✅ Estratégias de sustentabilidade e valorização da fileira do azeite. Uma iniciativa conjunta da 𝗔𝘀𝘀𝗼𝗰𝗶𝗮çã𝗼 𝗖𝗵𝗲𝗰𝗸-𝗜𝗻, 𝗔𝗽𝗽𝗶𝘁𝗮𝗱 𝗲 𝗔𝗰𝗼𝘀. 📩 Inscrições gratuitas e obrigatórias através do email: research@checkin.org.pt Saiba mais em: &lt;a href=&quot;https://l.facebook.com/l.php?u=http%3A%2F%2Fcircolive.eu%2F%3Ffbclid%3DIwZXh0bgNhZW0CMTAAYnJpZBExcTU5eGlBZXlMaUhZb284YXNydGMGYXBwX2lkEDIyMjAzOTE3ODgyMDA4OTIAAR6hBEZ7uK9P86B85d-0MD0qayNIiMcRU3QuDl2mxCqortpuwgAyU0GlSBt0sA_aem_81ixNxGRUOo4LheUfCpvvg&amp;h=AT56rhShK_yczoUp6ws-GY2E34XALaYOFtw4Q6e0Nj_i8cNogxlq7FpDP28vYkkesHmVba5pyK0zAH97hUj58x_ugBStczeklGYEaa4APpl7-pukBBq4tX6NFLUfylaaU6zveR0_Bht0xUbm-Jpm5nRz3C5V_A&amp;__tn__=-UK-R&amp;c[0]=AT67SMlI0fBtpiN0fxod20HUGsTtk6YUJlOHSc_fYUz7IjZUqxbLDiDPZYEzIM1T1DIG87X6AHhwLLAB0D0EkFyM1BHXfun7TjQHqgxSREtJoRpDjBYnaee8qhiyf52BMxB2ke1rGz5Ry9T5l4UO0HLPBd3TWgM-bGONKZIhtZzZJBtw652iREBhQZz059QZOjoboSr6dQmqwGZzgxe-vEGeww&quot; target=&quot;_blank&quot; rel=&quot;noopener&quot;&gt;circolive.eu&lt;/a&gt;  
SUMMARY:Projeto Circolive – 27 de abril
ORGANIZER:agroportal
URL;VALUE=URI:https://www.agroportal.pt/events/event/projeto-circolive-27-de-abril/
TRANSP:OPAQUE
BEGIN:VALARM
ACTION:DISPLAY
TRIGGER;VALUE=DATE-TIME:20260427T150000Z
DESCRIPTION:Reminder for Projeto Circolive – 27 de abril
END:VALARM
END:VEVENT
END:VCALENDAR