BEGIN:VCALENDAR
VERSION:2.0
PRODID:-//Agroportal //NONSGML Events //EN
CALSCALE:GREGORIAN
X-WR-CALNAME:Agroportal
BEGIN:VEVENT
CREATED:20260422T144151Z
UID:1240441
DTEND;VALUE=DATE:20260427T225900Z
DTSTART;VALUE=DATE:20260426T230000Z
DTSTAMP:20260425T141613Z
LOCATION:www.agroportal
DESCRIPTION:Territórios Rurais: AJAP promove sessão em Idanha-a-Nova sobre o Rural Innovation Challenges A AJAP - Associação dos Jovens Agricultores de Portugal realiza, a 27 de abril de 2026, às 15h00, no Fórum Cultural de Idanha-a-Nova, uma sessão de esclarecimento sobre o Concurso Rural Innovation Challenges. O futuro dos territórios rurais depende da capacidade de atrair, fixar e capacitar jovens. E esse futuro tem de ser mais impulsionado e apoiado, uma vez que estes territórios podem, para estes jovens, ser uma opção, alicerçados num modo de vida diferente, mais empresarial, mais inovador, com mais tecnologia e mais qualidade de vida. O grande objetivo da AJAP e parceiros, através da ação concertada de várias atividades (Sessões de Esclarecimento; Concurso com quatro Categorias; e a Gala AJAP Portugal Winners no final de cada ano), visa sensibilizar e propor ao Governo e aos diferentes poderes descentralizados do Estado (CCDR, CIM, Câmaras Municipais, Freguesias e outras organizações da sociedade civil), a necessidade de mobilizar e transformar o Portugal Rural num espaço vivo, inclusivo e dinâmico, onde a juventude encontre condições para aprender, investir, criar família e liderar projetos inovadores que assegurem a sustentabilidade e a coesão do país. &lt;strong&gt;Incentivar os jovens a candidatarem-se ao Rural Innovation Challenges&lt;/strong&gt; Este conjunto de atividades, a realizar em cada ano, pretende mostrar que o interior pode ser um espaço de inovação, empreendedorismo e qualidade de vida. Queremos sensibilizar os jovens para o potencial que estes territórios têm e para as diferentes oportunidades que podem oferecer. O público-alvo são os jovens já instalados (agricultores e empresários rurais) e jovens estudantes do ensino profissional e superior. Estas sessões contam ainda com a presença dos autarcas (Câmaras Municipais e Juntas de Freguesia) e são abertas a todos quantos queiram participar. É ainda objetivo destas sessões esclarecer potenciais candidatos às diferentes categorias do Concurso, bem como estabelecer o diálogo entre quem pretende investir e informar-se acerca dos incentivos existentes, a nível nacional e regional, bem como obter informações acerca dos apoios que a nível local lhes pode ser facultado. Estão convidados para esta Sessão em Idanha-a-Nova a Deputada do PSD, Dulcineia Moura, o Vice-Presidente da CDDR Centro, Vasco Estrela, a Presidente da Câmara Municipal de Idanha-a-Nova, Elza Gonçalves, o Presidente da União de Freguesias de Idanha-a-Nova e Alcafozes, João Couchinho, o Diretor-Geral da AJAP, Eng.º Firmino Cordeiro, e a Presidente da Cooperativa Agrícola das Termas de Monfortinho (entidade recetora da AJAP), Adelaide Martins. Além destas individualidades e palestrantes, marcam presença agricultores da região, jovens empresários e estudantes. &lt;strong&gt;12 premiados, 4 categorias e mais de 20 mil euros em prémios&lt;/strong&gt; Recorde-se que o Concurso Rural Innovation Challenges, promovido pela AJAP, em parceria com a Caja Rural del Sur (CRSUR) e a Federação Nacional das Caixas de Crédito Agrícola Mútuo (Agrimútuo), visa incentivar a inovação e o empreendedorismo, divulgar os territórios rurais e o seu potencial, e distinguir anualmente 12 projetos, em quatro categorias distintas (Jovem Agricultor, Jovem Empresário Rural, Jovem Talento Agro-Rural e Academia Rural), num total de mais de 20 mil euros em prémios. Esta “Volta a Portugal” em defesa dos Territórios Rurais tem passado, desde janeiro de 2026, por várias instituições de ensino (profissional e académico), associações de agricultores, cooperativas e vários municípios de norte a sul do país, num total previsto de 60 sessões. As inscrições ao Concurso Rural Innovation Challenges abrem em breve e podem ser efetuadas através do site da AJAP: &lt;a href=&quot;http://www.ajap.pt&quot; target=&quot;_blank&quot; rel=&quot;noopener nofollow&quot;&gt;www.ajap.pt&lt;/a&gt; &lt;img class=&quot;aligncenter wp-image-1240443 size-full&quot; src=&quot;https://www.agroportal.pt/wp-content/uploads/2026/04/Flyer-Rural-Innovation-Challenges.jpg&quot; alt=&quot;&quot; width=&quot;906&quot; height=&quot;897&quot; /&gt;
SUMMARY:Sessão de esclarecimento sobre o Concurso Rural Innovation Challenges – 27 de abril – Idanha-a-Nova
ORGANIZER:agroportal
URL;VALUE=URI:https://www.agroportal.pt/events/event/sessao-de-esclarecimento-sobre-o-concurso-rural-innovation-challenges-27-de-abril-idanha-a-nova/
TRANSP:OPAQUE
BEGIN:VALARM
ACTION:DISPLAY
TRIGGER;VALUE=DATE-TIME:20260427T225900Z
DESCRIPTION:Reminder for Sessão de esclarecimento sobre o Concurso Rural Innovation Challenges – 27 de abril – Idanha-a-Nova
END:VALARM
END:VEVENT
END:VCALENDAR