BEGIN:VCALENDAR
VERSION:2.0
PRODID:-//Agroportal //NONSGML Events //EN
CALSCALE:GREGORIAN
X-WR-CALNAME:Agroportal
BEGIN:VEVENT
CREATED:20260414T163323Z
UID:1238816
DTEND;VALUE=DATE:20261003T225900Z
DTSTART;VALUE=DATE:20260930T230000Z
DTSTAMP:20260421T175138Z
LOCATION:www.agroportal
DESCRIPTION:É com enorme satisfação que anunciamos que o &lt;strong&gt;Global Agri Forum&lt;/strong&gt; terá lugar nos dias &lt;strong&gt;1, 2 e 3 de outubro de 2026&lt;/strong&gt;, em Portugal. Trata-se de um projeto que &lt;strong&gt;tem como objetivo valorizar e promover o agronegócio dentro da Lusofonia&lt;/strong&gt;, destacando as vastas oportunidades que oferece, e incentivar a partilha de conhecimento, o desenvolvimento de negócios, o &lt;em&gt;networking&lt;/em&gt; de excelência e posicionando-se como um ponto de encontro exclusivo para empresários, investidores, líderes do setor e representantes institucionais. O &lt;strong&gt;Global Agri Forum&lt;/strong&gt; assenta em cinco pilares estratégicos: &lt;ol&gt; &lt;li&gt;&lt;strong&gt;Videocasts temáticos&lt;/strong&gt;, produzidos pela revista Forbes, a lançar a partir de maio de 2026, antecipando os principais temas do evento;&lt;/li&gt; &lt;li&gt;&lt;strong&gt;Conferência exclusiva em Lisboa (1 de outubro de 2026)&lt;/strong&gt;, destinada a convidados selecionados, com um programa internacional e diferenciador (paralelamente, a conferência passará via &lt;em&gt;streaming&lt;/em&gt; nas plataformas da Forbes). Serão assinados durante o evento um conjunto de protocolos empresariais e institucionais;&lt;/li&gt; &lt;li&gt;&lt;strong&gt;Visitas de campo (2 e 3 de outubro de 2026)&lt;/strong&gt;, a três casos de sucesso do agronegócio português;&lt;/li&gt; &lt;li&gt;&lt;strong&gt;Lançamento da “Global Network” durante o evento&lt;/strong&gt;, uma plataforma de &lt;em&gt;networking&lt;/em&gt; de excelência, concebida para uma comunidade exclusiva de membros;&lt;/li&gt; &lt;li&gt;&lt;strong&gt;Parceria estratégica com o Agritech Show Luanda&lt;/strong&gt;, no âmbito da qual: &lt;ul&gt; &lt;li&gt;Ambos os eventos decorrerão nas mesmas datas;&lt;/li&gt; &lt;li&gt;A conferência do &lt;strong&gt;Global Agri Forum&lt;/strong&gt; será transmitida durante o evento em Luanda;&lt;/li&gt; &lt;li&gt;O &lt;strong&gt;Agritech Show Angola&lt;/strong&gt; participará em várias sessões da conferência em Lisboa.&lt;/li&gt; &lt;/ul&gt; &lt;/li&gt; &lt;/ol&gt; Para garantir que o projeto é verdadeiramente único, foi constituído um &lt;em&gt;Advisory Board&lt;/em&gt; responsável pela definição dos temas a abordar, composto por personalidades de destaque de várias regiões: &lt;ol&gt; &lt;li&gt;Natalie Kindred (Diretora do Programa de Agronegócio e Investigadora Sénior, Harvard Business School, EUA)&lt;/li&gt; &lt;li&gt;Manuela Nina Jorge (Co-fundadora da AGROGES, Portugal)&lt;/li&gt; &lt;li&gt;N’Gunu Tiny (CEO, Emerald Group, Angola)&lt;/li&gt; &lt;li&gt;Soren Jensen (Membro do Conselho, Savola Foods, Arábia Saudita)&lt;/li&gt; &lt;li&gt;José Ramalho (CEO, Ground, Portugal)&lt;/li&gt; &lt;li&gt;Raúl Bragança Neto (Membro do Conselho Executivo, Emerald Group, Portugal/São Tomé e Príncipe)&lt;/li&gt; &lt;li&gt;Antonio Azevedo (CEO, Luxor Group, Brasil)&lt;/li&gt; &lt;li&gt;António Corrêa Nunes (CEO, ACN Consulting, Portugal)&lt;/li&gt; &lt;li&gt;David de Almeida (CEO, DDA Agrifood, Portugal)&lt;/li&gt; &lt;li&gt;Francisco Ferreira dos Santos (Membro do Conselho da JFS Group, Moçambique)&lt;/li&gt; &lt;li&gt;Paulo Fardilha (CEO, Agritech Show Luanda, Angola)&lt;/li&gt; &lt;li&gt;Vasco Nunes (Senior Operations Officer do IFC / Banco Mundial, Angola)&lt;/li&gt; &lt;/ol&gt; O evento contará também com vários parceiros de media, incluindo &lt;strong&gt;Forbes Portugal, Forbes África, Forbes África Lusófona, Jornal Económico, Agroportal Angola, Agroportal Portugal, entre outros.&lt;/strong&gt; O detalhe do programa será comunicado em breve e qualquer informação adicional poderá ser facultada pelo secretariado/organização do evento.
SUMMARY:Global Agri Forum – 1 a 3 de outubro – Lisboa
ORGANIZER:agroportal
URL;VALUE=URI:https://www.agroportal.pt/events/event/global-agri-forum-1-a-3-de-outubro-lisboa-2/
TRANSP:OPAQUE
BEGIN:VALARM
ACTION:DISPLAY
TRIGGER;VALUE=DATE-TIME:20261003T225900Z
DESCRIPTION:Reminder for Global Agri Forum – 1 a 3 de outubro – Lisboa
END:VALARM
END:VEVENT
END:VCALENDAR