BEGIN:VCALENDAR
VERSION:2.0
PRODID:-//Agroportal //NONSGML Events //EN
CALSCALE:GREGORIAN
X-WR-CALNAME:Agroportal
BEGIN:VEVENT
CREATED:20260414T084235Z
UID:1238656
DTEND;VALUE=DATE:20260527T225900Z
DTSTART;VALUE=DATE:20260526T230000Z
DTSTAMP:20260420T153540Z
LOCATION:www.agroportal
DESCRIPTION:A FNOP realiza, no próximo dia 27 de maio de 2026, a sua 2ª Conferência &lt;em&gt;“Construir Valor em Conjunto”&lt;/em&gt;, no auditório do IAPMEI, Lisboa. O evento reunirá especialistas, decisores e agentes do setor hortofrutícola para uma reflexão estratégica sobre os principais desafios e oportunidades que se colocam às Organizações de Produtores. Em destaque vão estar temas críticos para o futuro das Organizações de Produtores: desde a PAC Pós-2027, às Novas Técnicas Genómicas, até ao papel das Certificações como diferenciação estratégica. A Conferência pretende promover o debate e a partilha de conhecimento em torno de políticas públicas, inovação tecnológica e posicionamento estratégico, num contexto de crescente exigência competitiva e sustentabilidade do setor. Mais informações sobre o programa e inscrições serão divulgadas brevemente.  
SUMMARY:2ª Conferência FNOP “Construir Valor em Conjunto” – 27 de Maio – Lisboa
ORGANIZER:agroportal
URL;VALUE=URI:https://www.agroportal.pt/events/event/2a-conferencia-fnop-construir-valor-em-conjunto-27-de-maio-lisboa-2/
TRANSP:OPAQUE
BEGIN:VALARM
ACTION:DISPLAY
TRIGGER;VALUE=DATE-TIME:20260527T225900Z
DESCRIPTION:Reminder for 2ª Conferência FNOP “Construir Valor em Conjunto” – 27 de Maio – Lisboa
END:VALARM
END:VEVENT
END:VCALENDAR