BEGIN:VCALENDAR
VERSION:2.0
PRODID:-//Agroportal //NONSGML Events //EN
CALSCALE:GREGORIAN
X-WR-CALNAME:Agroportal
BEGIN:VEVENT
CREATED:20260413T123303Z
UID:1238450
DTEND;VALUE=DATE:20260430T160000Z
DTSTART;VALUE=DATE:20260430T133000Z
DTSTAMP:20260421T053954Z
LOCATION:www.agroportal
DESCRIPTION:O &lt;strong&gt;Centro de Competências do Pastoreio Extensivo&lt;/strong&gt; (CCPE), em parceria com a &lt;strong&gt;ACOS&lt;/strong&gt; e a &lt;strong&gt;Associação de Defesa do Património de Mértola&lt;/strong&gt; (ADPM), irá promover o &lt;strong&gt;Colóquio Nacional ‘Construir o futuro das políticas de apoio à pecuária extensiva’&lt;/strong&gt;, a decorrer no dia &lt;strong&gt;30 de abril&lt;/strong&gt; de 2026, a partir das&lt;strong&gt; 14h30,&lt;/strong&gt; no &lt;strong&gt;espaço ACOS&lt;/strong&gt; da Ovibeja, em Beja. A iniciativa assinala o início de uma colaboração entre o CCPE e o Gabinete de Planeamento e Políticas (GPP), com vista à criação de uma medida de política pública dedicada à pecuária extensiva em Portugal. O Colóquio integra-se nas celebrações do Ano Internacional das Pastagens e dos Pastoralistas 2026, proclamado pela Organização das Nações Unidas para a Alimentação e a Agricultura (FAO), e reunirá investigadores, técnicos, agricultores, representantes de organizações do setor, bem como decisores políticos nacionais e europeus. &lt;strong&gt;Sobre o Colóquio&lt;/strong&gt; A pecuária extensiva assume um papel essencial na sustentabilidade dos territórios rurais em Portugal, contribuindo para a redução do risco de incêndios, a preservação dos solos e da biodiversidade, a valorização dos serviços dos ecossistemas e o combate ao despovoamento, entre outros benefícios. Contudo, a falta de uma definição clara e de instrumentos de política específicos tem dificultado o seu reconhecimento e valorização. Este Colóquio constitui um momento-chave para o setor, ao reunir investigadores, técnicos, organizações agrícolas e decisores políticos em torno de uma proposta concreta: a criação de uma medida de apoio que reconheça os diferentes níveis de extensividade das explorações pecuárias em Portugal e permita remunerar os benefícios ambientais que estas proporcionam à sociedade. O artigo foi publicado originalmente em &lt;a href=&quot;https://www.rederural.gov.pt/pt/?view=article&amp;id=9077:coloquio-nacional-pecuaria-extensiva&amp;catid=12&quot; target=&quot;_blank&quot; rel=&quot;noopener nofollow&quot;&gt;Rede Rural Nacional&lt;/a&gt;.
SUMMARY:Colóquio nacional | Pecuária extensiva – 30 de abril – Beja
ORGANIZER:agroportal
URL;VALUE=URI:https://www.agroportal.pt/events/event/coloquio-nacional-pecuaria-extensiva-30-de-abril-beja/
TRANSP:OPAQUE
BEGIN:VALARM
ACTION:DISPLAY
TRIGGER;VALUE=DATE-TIME:20260430T160000Z
DESCRIPTION:Reminder for Colóquio nacional | Pecuária extensiva – 30 de abril – Beja
END:VALARM
END:VEVENT
END:VCALENDAR