BEGIN:VCALENDAR
VERSION:2.0
PRODID:-//Agroportal //NONSGML Events //EN
CALSCALE:GREGORIAN
X-WR-CALNAME:Agroportal
BEGIN:VEVENT
CREATED:20260410T110037Z
UID:1238031
DTEND;VALUE=DATE:20260507T153000Z
DTSTART;VALUE=DATE:20260507T133000Z
DTSTAMP:20260419T142017Z
LOCATION:www.agroportal
DESCRIPTION:No próximo dia &lt;strong&gt;7 de maio&lt;/strong&gt;, a Direção-Geral de Agricultura e Desenvolvimento Rural (DGADR) promove uma ação de capacitação online dedicada às &lt;strong&gt;Viroses da Videira&lt;/strong&gt;. O webinar, que decorre entre as &lt;strong&gt;14h30 e as 16h30&lt;/strong&gt;, visa dotar técnicos do setor vitivinícola de ferramentas científicas e práticas para a identificação, diagnóstico e controlo de doenças que comprometem a sanidade e a produtividade das explorações. &lt;strong&gt;Impacto na Sanidade e Produtividade&lt;/strong&gt; As viroses representam uma ameaça persistente para a viticultura nacional, afetando não só a longevidade das plantas mas também a qualidade final da uva. Coordenado pela &lt;strong&gt;DGADR&lt;/strong&gt;, o evento contará com a intervenção da oradora &lt;strong&gt;Margarida Teixeira Santos&lt;/strong&gt;, especialista em Virologia do Instituto Nacional de Investigação Agrária e Veterinária (INIAV, IP). A sessão abordará as principais patologias que afetam o setor, com especial destaque para: &lt;ul&gt; &lt;li&gt;&lt;strong&gt;Degenerescência Infeciosa&lt;/strong&gt;;&lt;/li&gt; &lt;li&gt;&lt;strong&gt;Marmoreado&lt;/strong&gt;;&lt;/li&gt; &lt;li&gt;&lt;strong&gt;Enrolamento Foliar&lt;/strong&gt;;&lt;/li&gt; &lt;li&gt;&lt;strong&gt;Lenho Rugoso&lt;/strong&gt;.&lt;/li&gt; &lt;/ul&gt; Para além destas doenças estabelecidas, serão ainda discutidas &lt;strong&gt;viroses emergentes&lt;/strong&gt; e curiosidades técnicas que exigem uma vigilância redobrada por parte dos profissionais de campo. &lt;strong&gt;Prevenção e Enquadramento Legal&lt;/strong&gt; A capacitação não se limitará à identificação visual de sintomas. O programa prevê uma introdução às modernas &lt;strong&gt;técnicas de diagnóstico&lt;/strong&gt; e uma análise detalhada das &lt;strong&gt;medidas de prevenção e mitigação&lt;/strong&gt; que devem ser adotadas pelos viticultores. No plano institucional, serão apresentadas as atualizações da &lt;strong&gt;legislação europeia e portuguesa&lt;/strong&gt; que regulam o enquadramento fitossanitário da cultura. &lt;strong&gt;Destinatários e Inscrições&lt;/strong&gt; Esta iniciativa é direcionada especificamente a &lt;strong&gt;técnicos com formação superior na área das ciências agrárias&lt;/strong&gt;, preferencialmente aqueles que prestam serviços de aconselhamento agrícola em temáticas de fitossanidade. O evento termina com um período de debate, permitindo a partilha de experiências e o esclarecimento de dúvidas entre os participantes e a especialista do INIAV. &lt;strong&gt;Informações Úteis:&lt;/strong&gt; &lt;ul&gt; &lt;li&gt;&lt;strong&gt;Data:&lt;/strong&gt; 7 de maio de 2026.&lt;/li&gt; &lt;li&gt;&lt;strong&gt;Horário:&lt;/strong&gt; 14h30 – 16h30 (Carga horária: 2 horas).&lt;/li&gt; &lt;li&gt;&lt;strong&gt;Programa:&lt;/strong&gt; &lt;a href=&quot;https://www.rederural.gov.pt/images/Programa_webinar_-_Viroses_da_Vinha.pdf&quot; target=&quot;_blank&quot; rel=&quot;noopener nofollow&quot;&gt;aqui&lt;/a&gt;&lt;/li&gt; &lt;li&gt;&lt;strong&gt;Inscrições:&lt;/strong&gt; aqui&lt;/li&gt; &lt;/ul&gt; O artigo foi publicado originalmente em &lt;a href=&quot;https://www.rederural.gov.pt/pt/?view=article&amp;id=9075:webinar-acao-de-capacitacao-viroses-da-videira-7-maio&amp;catid=12&quot; target=&quot;_blank&quot; rel=&quot;noopener nofollow&quot;&gt;Rede Rural Nacional&lt;/a&gt;.
SUMMARY:Webinar/Ação de Capacitação: Viroses da Videira – 7 maio
ORGANIZER:agroportal
URL;VALUE=URI:https://www.agroportal.pt/events/event/webinar-acao-de-capacitacao-viroses-da-videira-7-maio/
TRANSP:OPAQUE
BEGIN:VALARM
ACTION:DISPLAY
TRIGGER;VALUE=DATE-TIME:20260507T153000Z
DESCRIPTION:Reminder for Webinar/Ação de Capacitação: Viroses da Videira – 7 maio
END:VALARM
END:VEVENT
END:VCALENDAR