BEGIN:VCALENDAR
VERSION:2.0
PRODID:-//Agroportal //NONSGML Events //EN
CALSCALE:GREGORIAN
X-WR-CALNAME:Agroportal
BEGIN:VEVENT
CREATED:20260409T123457Z
UID:1237906
DTEND;VALUE=DATE:20260420T225900Z
DTSTART;VALUE=DATE:20260419T230000Z
DTSTAMP:20260420T010215Z
LOCATION:www.agroportal
DESCRIPTION:A &lt;a href=&quot;https://www.purpest.eu/&quot; target=&quot;_blank&quot; rel=&quot;noopener nofollow&quot;&gt;PurPest Project&lt;/a&gt; vai promover, no próximo dia &lt;strong&gt;20 de abril de 2026&lt;/strong&gt;, um &lt;strong&gt;webinar gratuito&lt;/strong&gt; subordinado ao tema das &lt;strong&gt;plantas de viveiro saudáveis e da biossegurança vegetal&lt;/strong&gt;. &lt;p data-start=&quot;192&quot; data-end=&quot;570&quot;&gt;A iniciativa, que decorrerá em formato online, tem como &lt;strong&gt;objetivo alertar para os riscos associados a agentes patogénicos invasores&lt;/strong&gt;, como o ‘Phytophthora’, que representam uma ameaça significativa para florestas e culturas agrícolas. Durante a sessão, &lt;strong&gt;especialistas internacionais irão partilhar conhecimento e apresentar soluções práticas para prevenir e mitigar estes impactos&lt;/strong&gt;.&lt;/p&gt; &lt;p data-start=&quot;572&quot; data-end=&quot;775&quot;&gt;O evento pretende ainda destacar a importância de práticas sustentáveis na produção de plantas, essenciais para a saúde dos ecossistemas e para o sucesso de ações de reflorestação e restauro da natureza.&lt;/p&gt; &lt;p data-start=&quot;777&quot; data-end=&quot;956&quot;&gt;A participação é gratuita, sendo necessário efetuar inscrição prévia.&lt;/p&gt; &lt;p data-start=&quot;777&quot; data-end=&quot;956&quot;&gt;Os interessados poderão consultar o programa e garantir o seu lugar através da plataforma oficial do projeto, em &lt;a href=&quot;https://purpest.eu/news/webinar-healthy-nursery-plants&quot; target=&quot;_blank&quot; rel=&quot;noopener nofollow&quot;&gt;PurPest – WEBINAR – ‘Healthy nursery plants&lt;/a&gt;‘&lt;/p&gt; O artigo foi publicado originalmente em &lt;a href=&quot;https://www.rederural.gov.pt/pt/?view=article&amp;id=9073:purpest-promove-webinar-sobre-plantas-de-viveiro&amp;catid=12&quot; target=&quot;_blank&quot; rel=&quot;noopener nofollow&quot;&gt;Rede Rural Nacional&lt;/a&gt;.
SUMMARY:Webinar PurPest: Healthy nursery plants – 20 de abril
ORGANIZER:agroportal
URL;VALUE=URI:https://www.agroportal.pt/events/event/webinar-purpest-healthy-nursery-plants-20-de-abril/
TRANSP:OPAQUE
BEGIN:VALARM
ACTION:DISPLAY
TRIGGER;VALUE=DATE-TIME:20260420T225900Z
DESCRIPTION:Reminder for Webinar PurPest: Healthy nursery plants – 20 de abril
END:VALARM
END:VEVENT
END:VCALENDAR