BEGIN:VCALENDAR
VERSION:2.0
PRODID:-//Agroportal //NONSGML Events //EN
CALSCALE:GREGORIAN
X-WR-CALNAME:Agroportal
BEGIN:VEVENT
CREATED:20260327T144416Z
UID:1235658
DTEND;VALUE=DATE:20260604T225900Z
DTSTART;VALUE=DATE:20260601T230000Z
DTSTAMP:20260421T212410Z
LOCATION:www.agroportal
DESCRIPTION:Líder na Europa há 30 anos, ponto de encontro de todos os vendedores e compradores de produtos de madeira e palco de negócios de âmbito internacional, a reconhecida feira da madeira Carrefour International du Bois regressa em 2026, nos dias 2, 3 e 4 de junho, no Parc des Expositions de Nantes, em França. Organizado pela Fibois Pays de la Loire — associação interprofissional regional dedicada ao desenvolvimento de todas as utilizações da floresta e da madeira — este evento empresarial foi concebido por e para os profissionais da madeira como uma plataforma única de intercâmbio e tomada de decisões. Objetivo: avaliar a conjuntura atual, promover a utilização da madeira e construir em conjunto o setor da madeira do futuro. Madeira serrada, painéis, soalhos, comércio especializado, soluções construtivas em madeira… Todos os produtos e novidades estão disponíveis num único local durante três dias. Espelho das transformações que se estão a sentir no setor da madeira, o Carrefour International du Bois irá ter em destaque nesta edição: • Inovações tecnológicas com impacto nas profissões • Novas práticas industriais • Soluções concretas para fazer face às dificuldades de recrutamento • Iniciativas em matéria de formação e atratividade Nas palavras de Géraldine Cesbron, Vice-Delegada Geral da Fibois Pays de la Loire e Comissária Geral do Carrefour International du Bois: “Vir ao CIB é descobrir as inovações, trocar ideias com os principais intervenientes do setor e participar nas discussões que irão moldar o futuro da madeira. Para 2026, o objetivo é também posicionar o evento como um barómetro do setor e dar respostas concretas e estruturantes aos desafios económicos e ambientais, tanto em França como a nível internacional.” O badge de acesso ao Carrefour International du Bois é gratuito e pode ser solicitado &lt;a href=&quot;https://carrefourdubois.mybadgeonline.com/Pro-Login-en-US/trk/PROMOPO&quot; target=&quot;_blank&quot; rel=&quot;noopener nofollow&quot;&gt;AQUI&lt;/a&gt; .
SUMMARY:Carrefour International du Bois 2026 – 2 a 4 de junho – Nantes
ORGANIZER:agroportal
URL;VALUE=URI:https://www.agroportal.pt/events/event/carrefour-international-du-bois-2026-2-a-4-de-junho-nantes/
TRANSP:OPAQUE
BEGIN:VALARM
ACTION:DISPLAY
TRIGGER;VALUE=DATE-TIME:20260604T225900Z
DESCRIPTION:Reminder for Carrefour International du Bois 2026 – 2 a 4 de junho – Nantes
END:VALARM
END:VEVENT
END:VCALENDAR