BEGIN:VCALENDAR
VERSION:2.0
PRODID:-//Agroportal //NONSGML Events //EN
CALSCALE:GREGORIAN
X-WR-CALNAME:Agroportal
BEGIN:VEVENT
CREATED:20251113T160208Z
UID:1208893
DTEND;VALUE=DATE:20260614T225900Z
DTSTART;VALUE=DATE:20260605T230000Z
DTSTAMP:20260420T044236Z
LOCATION:www.agroportal
DESCRIPTION:Com foco nos “Pequenos Frutos” a FNA 26 - Feira Nacional de Agricultura / Feira do Ribatejo, o principal evento do setor em Portugal, decorre de 6 a 14 de Junho, no CNEMA,  em Santarém. Os “Pequenos Frutos” como mirtilos, morangos, framboesas e amoras, serão o tema em destaque, de acordo com a crescente importância na agricultura nacional. O aumento do interesse dos consumidores, impulsionado pelo elevado valor nutricional destes frutos, justifica esta aposta. &lt;strong&gt;Um Polo de Inovação e Negócio&lt;/strong&gt; A FNA26 é a plataforma ideal para impulsionar os negócios agrícolas. O evento funciona como um espaço de inovação e reúne uma vasta exposição de maquinaria, equipamentos, tecnologia agrícola, fatores de produção e serviços. Além de permitir o encontro entre produtores e consumidores de produtos de elevada qualidade, a Feira desempenha um papel crucial no debate e modernização do setor. A FNA 26 será o palco para a discussão dos temas mais relevantes da agricultura, reunindo especialistas, investigadores e decisores políticos. A Feira Nacional de Agricultura é a oportunidade ideal para as empresas reforçarem a visibilidade das suas marcas no panorama agrícola nacional. &lt;strong&gt;Lazer e Cultura na FNA&lt;/strong&gt; A Feira Nacional de Agricultura também se destaca pela animação. Espaços de gastronomia, campinos, folclore, música popular e grandes concertos transformam o recinto numa grande festa.
SUMMARY:FNA 26 – 6 a 14 de junho – Santarém
ORGANIZER:agroportal
URL;VALUE=URI:https://www.agroportal.pt/events/event/fna-26-6-a-14-de-junho-santarem/
TRANSP:OPAQUE
BEGIN:VALARM
ACTION:DISPLAY
TRIGGER;VALUE=DATE-TIME:20260614T225900Z
DESCRIPTION:Reminder for FNA 26 – 6 a 14 de junho – Santarém
END:VALARM
END:VEVENT
END:VCALENDAR